BEGIN:VCALENDAR
PRODID:-//eluceo/ical//2.0/EN
VERSION:2.0
CALSCALE:GREGORIAN
BEGIN:VEVENT
UID:249cde1908d71f2313430ae23a43e7c0
DTSTAMP:20260420T073003Z
SUMMARY:Joy Ride Parade
DESCRIPTION:Jewish Federation of Greater Portland\nTeens\nhttps://jewishpor
 tland.org/teens/joy-ride-parade-349668\n\nBring joy to the residents of Ce
 dar Sinai Park and express gratitude to the caregivers who keep our elders
  healthy and safe. \n\nJoin us this Sunday\, April 26th for a "Joy Ride" -
 - a drive-by parade with signs\, music\, and smiles as we wave to everyone
  on the campus.\n\nCome any time between 2:00 p.m. - 3:00 p.m. Loop around
  a few times if you like :-)\n\n(Note: You MUST enter/exit via SW 62nd sid
 e of SW Boundary Street and music must only be played in front of the camp
 us out of respect to the...
DTSTART;TZID=America/Los_Angeles:20200426T140000
DTEND;TZID=America/Los_Angeles:20200426T150000
END:VEVENT
END:VCALENDAR
