BEGIN:VCALENDAR
PRODID:-//eluceo/ical//2.0/EN
VERSION:2.0
CALSCALE:GREGORIAN
BEGIN:VEVENT
UID:969309f5f193260ad28cd38c160bad71
DTSTAMP:20260419T175040Z
SUMMARY:Yoga Nidra
DESCRIPTION:Jewish Federation of Greater Portland\nTeens\nhttps://jewishpor
 tland.org/teens/mikdash-22-155064\n\nYoga Nidra is one of the most effecti
 ve and least explored techniques for unleashing the power of your deep unc
 onscious.
DTSTART;TZID=America/Los_Angeles:20150810T180000
DTEND;TZID=America/Los_Angeles:20150810T183000
END:VEVENT
END:VCALENDAR
