BEGIN:VCALENDAR
PRODID:-//eluceo/ical//2.0/EN
VERSION:2.0
CALSCALE:GREGORIAN
BEGIN:VEVENT
UID:2d890be1e4667ee65e8939e58628de02
DTSTAMP:20260424T130202Z
SUMMARY:OJCYF- Festival of Giving Dinner
DESCRIPTION:Jewish Federation of Greater Portland\nTeens\nhttps://jewishpor
 tland.org/teens/ojcyf--festival-of-giving-dinner-1482353085-216874\n\nJoin
  the OJCYF Teens for an evening of learning and community support.
DTSTART;TZID=America/Los_Angeles:20170427T173000
DTEND;TZID=America/Los_Angeles:20170427T210000
END:VEVENT
END:VCALENDAR
