BEGIN:VCALENDAR
PRODID:-//eluceo/ical//2.0/EN
VERSION:2.0
CALSCALE:GREGORIAN
BEGIN:VEVENT
UID:3f036dbf36e3a686f095aef82beeaaac
DTSTAMP:20260423T004352Z
SUMMARY:Ruach Minyan at Shaarie Torah
DESCRIPTION:Jewish Federation of Greater Portland\nTeens\nhttps://jewishpor
 tland.org/teens/ruach-minyan-at-shaarie-torah-yom-kippur-5776-156188\n\nTh
 is service is an opportunity for adults and/or families with youth 2nd gra
 de and above to join in a modified service which includes prayers\, discus
 sions\, and creatively examines the themes of the High Holy Days.
DTSTART;TZID=America/Los_Angeles:20150923T100000
DTEND;TZID=America/Los_Angeles:20150923T110000
END:VEVENT
END:VCALENDAR
