BEGIN:VCALENDAR
PRODID:-//eluceo/ical//2.0/EN
VERSION:2.0
CALSCALE:GREGORIAN
BEGIN:VEVENT
UID:713528f0aaf347c7142eee3122ca38ce
DTSTAMP:20260419T230109Z
SUMMARY:Shaarie Torah Kol Nidrai Services
DESCRIPTION:Jewish Federation of Greater Portland\nTeens\nhttps://jewishpor
 tland.org/teens/shaarie-torah-kol-nidrai-services-14623\n\nShaarie Torah K
 ol Nidrai Services
DTSTART;TZID=America/Los_Angeles:20130913T183000
DTEND;TZID=America/Los_Angeles:20130913T213000
END:VEVENT
END:VCALENDAR
