BEGIN:VCALENDAR
PRODID:-//eluceo/ical//2.0/EN
VERSION:2.0
CALSCALE:GREGORIAN
BEGIN:VEVENT
UID:829059ee03496954b769f74703dbf882
DTSTAMP:20260419T203406Z
SUMMARY:CBI Teen Yom Kippur Service
DESCRIPTION:Jewish Federation of Greater Portland\nTeens\nhttps://jewishpor
 tland.org/teens/teen-yom-kippur-service-1724881173-475738\n\nTeen Yom Kipp
 ur Service\nSaturday\, October 12\, 10:00 AM\nIn-Person ONLY\nBlumauer Aud
 itorium
DTSTART;TZID=America/Los_Angeles:20241012T100000
DTEND;TZID=America/Los_Angeles:20241012T120000
END:VEVENT
END:VCALENDAR
