BEGIN:VCALENDAR
PRODID:-//eluceo/ical//2.0/EN
VERSION:2.0
CALSCALE:GREGORIAN
BEGIN:VEVENT
UID:ebbbcefb1276f51668070950f79f2009
DTSTAMP:20260423T222223Z
SUMMARY:Dignity Grows Packing Party
DESCRIPTION:Jewish Federation of Greater Portland\nWomen's Interests\nhttps
 ://jewishportland.org/womens-interests/dignity-grows-packing-november-2025
 -503034\n\nVolunteer to pack with our Dignity Grows™ Chapter. Ea
 ch Dignity Tote provides comprehensive monthly personal and menstr
 ual hygiene products for menstruating women\, girls\, and individu
 als who cannot afford them. \n\nJoin us to pack essential totes
  for our community members\, distributed by our local Distributio
 n Partners. The morning program will include packing totes\, lear
 ning more about period poverty and how we can combat it an...
DTSTART;TZID=America/Los_Angeles:20251109T103000
DTEND;TZID=America/Los_Angeles:20251109T123000
END:VEVENT
END:VCALENDAR
