BEGIN:VCALENDAR
PRODID:-//eluceo/ical//2.0/EN
VERSION:2.0
CALSCALE:GREGORIAN
BEGIN:VEVENT
UID:2a224aa37d9f14d0cdd94151b25cef28
DTSTAMP:20260424T155435Z
SUMMARY:Israel: One American Immigrant's Experience with Fred Rothstein
DESCRIPTION:Jewish Federation of Greater Portland\nWomen's Interests\nhttps
 ://jewishportland.org/womens-interests/israel-one-american-immigrants-expe
 rience-with-fred-rothstein-1662758181-417530\n\nFred Rothstein\, Executive
  Director of Congregation Neveh Shalom\, shares his family’s experience 
 in moving to Israel as a new immigrant in 1995.To register\, go to: https:
 //nevehshalom.org/event/israel360-israel-one-american-immigrants-experienc
 e-with-fred-rothstein/
DTSTART;TZID=America/Los_Angeles:20221027T190000
DTEND;TZID=America/Los_Angeles:20221027T210000
END:VEVENT
END:VCALENDAR
