BEGIN:VCALENDAR
PRODID:-//eluceo/ical//2.0/EN
VERSION:2.0
CALSCALE:GREGORIAN
BEGIN:VEVENT
UID:3238b278b7de23b09d3b1f2c67a0a209
DTSTAMP:20260422T232359Z
SUMMARY:Jewish Women Professionals' Networking Meetup June 10\, 2025
DESCRIPTION:Jewish Federation of Greater Portland\nWomen's Interests\nhttps
 ://jewishportland.org/womens-interests/jewish-women-professionals-networki
 ng-meetup-june-10-2025-492600\n\nJewish Women Professionals' \nNetworking
  Meetup\n\nJoin Us for an Evening of Fun\, Good Food\, and Connection!\n\n
 Tuesday\, June 10\, 2025\n5:30 PM - 7:30 PM\n\nEvent is in NE Portland nea
 r Sandy and 72nd.\nAddress will be shared in an upcoming reminder email.\n
 \n \n\nIf you have a friend or co-worker who might be interested in the e
 vent\, please register them.\n\nWe will facilitate mingling\, networking\,
  and sharing for attendees. If you are no longer able to attend\, please c
 ontact Wendy Kahn at...
DTSTART;TZID=America/Los_Angeles:20250610T173000
DTEND;TZID=America/Los_Angeles:20250610T193000
END:VEVENT
END:VCALENDAR
