BEGIN:VCALENDAR
PRODID:-//eluceo/ical//2.0/EN
VERSION:2.0
CALSCALE:GREGORIAN
BEGIN:VEVENT
UID:29c2aa9ad5374f33757446f5e42cf5f9
DTSTAMP:20260422T054116Z
SUMMARY:Leadership Gathering
DESCRIPTION:Jewish Federation of Greater Portland\nWomen's Interests\nhttps
 ://jewishportland.org/womens-interests/leadership-gathering-488644\n\nDeta
 ils coming soon.
DTSTART;TZID=America/Los_Angeles:20250519T170000
DTEND;TZID=America/Los_Angeles:20250519T190000
END:VEVENT
END:VCALENDAR
