BEGIN:VCALENDAR
PRODID:-//eluceo/ical//2.0/EN
VERSION:2.0
CALSCALE:GREGORIAN
BEGIN:VEVENT
UID:5cd6347da28b34ab19f380da44b68407
DTSTAMP:20260423T082748Z
SUMMARY:OJCYF Annual Benefit Dinner
DESCRIPTION:Jewish Federation of Greater Portland\nWomen's Interests\nhttps
 ://jewishportland.org/womens-interests/ojcyf-annual-benefit-dinner-1753816
 141-497015\n\nThis event will feature entertainment\, guest speakers and a
  rousing Mitzvah Moment.
DTSTART;TZID=America/Los_Angeles:20260416T173000
DTEND;TZID=America/Los_Angeles:20260416T203000
END:VEVENT
END:VCALENDAR
