BEGIN:VCALENDAR
PRODID:-//eluceo/ical//2.0/EN
VERSION:2.0
CALSCALE:GREGORIAN
BEGIN:VEVENT
UID:4407473d6d8406ebdca1e19c799da810
DTSTAMP:20260419T142315Z
SUMMARY:Oregon Holocaust Memorial Clean-Up
DESCRIPTION:Jewish Federation of Greater Portland\nWomen's Interests\nhttps
 ://jewishportland.org/womens-interests/oregon-holocaust-memorial-clean-up-
 1713553549-464908\n\nCommunity members will gather at the Memorial to help
  clean up the grounds.
DTSTART;TZID=America/Los_Angeles:20240428T100000
DTEND;TZID=America/Los_Angeles:20240428T120000
END:VEVENT
END:VCALENDAR
