BEGIN:VCALENDAR
PRODID:-//eluceo/ical//2.0/EN
VERSION:2.0
CALSCALE:GREGORIAN
BEGIN:VEVENT
UID:1f7b26d4f664f265f33d941038964b99
DTSTAMP:20260423T004252Z
SUMMARY:Pre-Rosh Hashanah Mega Challah Bake
DESCRIPTION:Jewish Federation of Greater Portland\nWomen's Interests\nhttps
 ://jewishportland.org/womens-interests/pre-rosh-hashanah-mega-challah-bake
 -1692384616-446102\n\nJoin us for an empowering Women's Challah Bake! Disc
 over the age-old tradition of baking challah\, the beautiful braided bread
 \, in a warm and inclusive atmosphere. Come together with other incredible
  women to mix\, knead\, and shape dough while sharing stories and laughter
 . Unleash your creativity as we explore various braiding techniques\, and 
 end the evening with a sense of pride\, accomplishment\, and delicious hom
 emade challah to take home. This event promises to be a delightful celebra
 tion of ...
DTSTART;TZID=America/Los_Angeles:20230907T184500
DTEND;TZID=America/Los_Angeles:20230907T210000
END:VEVENT
END:VCALENDAR
