BEGIN:VCALENDAR
PRODID:-//eluceo/ical//2.0/EN
VERSION:2.0
CALSCALE:GREGORIAN
BEGIN:VEVENT
UID:fb083a6d3658b3a00f298a635477c6c0
DTSTAMP:20260425T151559Z
SUMMARY:Hillsboro Rosh Hashana Shofar & Services
DESCRIPTION:Jewish Federation of Greater Portland\nWomen's Interests\nhttps
 ://jewishportland.org/womens-interests/rosh-hashana-shofar--services-17573
 52943-500005\n\nInspiring High Holiday Services with Meaning and Melody!\n
 No Affiliation Necessary\nTraditional and Inspirational Services\nWarm and
  Friendly Atmosphere
DTSTART;TZID=America/Los_Angeles:20250924T093000
DTEND;TZID=America/Los_Angeles:20250924T113000
END:VEVENT
END:VCALENDAR
