BEGIN:VCALENDAR
PRODID:-//eluceo/ical//2.0/EN
VERSION:2.0
CALSCALE:GREGORIAN
BEGIN:VEVENT
UID:182acaf8a44756e1d42f00c47cdddb43
DTSTAMP:20260422T160838Z
SUMMARY:Rosh Hashanah Family Experience at Shaarie Torah
DESCRIPTION:Jewish Federation of Greater Portland\nWomen's Interests\nhttps
 ://jewishportland.org/womens-interests/rosh-hashanah-family-experience-at-
 shaarie-torah5783-415483\n\nWelcome to the High Holy Days at Shaarie Torah
 : Your Place to Be in 5783!\n\nJoin for Rosh Hashanah Family Experience wi
 th Education Director Cara Abrams and Rabbinical Student Brianah Caplan. N
 o tickets are required for members or non members we are requesting regist
 ration for all services and Family programming. Please register here. \n
 \nFind all info on 5783 HHD services\, events and more at shaarietorah.org
 /hdd\n\n➤All services in our sanctuary will be livestreamed at shaariet
 orah.o...
DTSTART;TZID=America/Los_Angeles:20220926T093000
DTEND;TZID=America/Los_Angeles:20220926T123000
END:VEVENT
END:VCALENDAR
