BEGIN:VCALENDAR
PRODID:-//eluceo/ical//2.0/EN
VERSION:2.0
CALSCALE:GREGORIAN
BEGIN:VEVENT
UID:ebe0e676294163264eb9133bf62dfa29
DTSTAMP:20260419T170320Z
SUMMARY:Shemini Atzeret/Yizkor Service - Neveh Shalom
DESCRIPTION:Jewish Federation of Greater Portland\nWomen's Interests\nhttps
 ://jewishportland.org/womens-interests/shemini-atzeretyizkor-service-5783-
 415575\n\nShemini Atzeret/Yizkor Service\nMonday\, October 17\, 9:30am\nTh
 e strength of the Jewish family depends on an inter­generational covenant
  of mutual concern. One way we demonstrate that is at Yizkor services\, wh
 en we reflect on those who came before us. This is a powerful moment to re
 plenish our memories and our love of those we have lost.
DTSTART;TZID=America/Los_Angeles:20221017T093000
DTEND;TZID=America/Los_Angeles:20221017T120000
END:VEVENT
END:VCALENDAR
