BEGIN:VCALENDAR
PRODID:-//eluceo/ical//2.0/EN
VERSION:2.0
CALSCALE:GREGORIAN
BEGIN:VEVENT
UID:799c9bf4453e8c1546f8f387d8f24178
DTSTAMP:20260422T043452Z
SUMMARY:Women's Philanthropy Professional Networking Meetup
DESCRIPTION:Jewish Federation of Greater Portland\nWomen's Interests\nhttps
 ://jewishportland.org/womens-interests/womens-philanthropy-professional-ne
 tworking-meetup-510966\n\nJoin Us for an Evening of Fun\, Community
 \, and Connection!\n\nWednesday\, March 4\, 2026\n5:30 PM - 7:30 
 PM\n\nAddress will be shared in subsequent reminder emails.\nLocate
 d near Hawthorne.\n\nCost: $10-$18 (pay what you can\; covers food and o
 ne drink ticket)\nParking: Neighborhood street parking is available\n\n﻿
 Discussion Topic: How Your Own Motivation Works\n\nAbout Elana Davey:\n\n
 Elana has built an accomplished career as an Executive Producer 
 and Innov...
DTSTART;TZID=America/Los_Angeles:20260304T173000
DTEND;TZID=America/Los_Angeles:20260304T193000
END:VEVENT
END:VCALENDAR
