BEGIN:VCALENDAR
PRODID:-//eluceo/ical//2.0/EN
VERSION:2.0
CALSCALE:GREGORIAN
BEGIN:VEVENT
UID:36ce0fd637f3b22200c74066b81a86e3
DTSTAMP:20260420T213821Z
SUMMARY:Spotlight: Featuring Fran Drescher
DESCRIPTION:Jewish Federation of Greater Portland\nYoung Adults\nhttps://je
 wishportland.org/young-adults/2024-jfgp-spotlight-event-432920\n\nJewish F
 ederation of Greater Portland invites you to Spotlight:\nFeaturing Fran Dr
 escher\n\nSaturday\, December 2\, 2023 - 6:30 PM\n\nThe Patricia Reser Cen
 ter for the Arts / 12625 SW Crescent Drive / Beaverton\, OR 97005\n\n \n\
 nAll seats $75 / Hors d’oeuvres - Desserts - Drinks /\nDietary Laws Obse
 rved\n\nPURCHASE TICKETS ONLINE AT THE LINK BELOW OR CALL 503.245.6219\nww
 w.jewishportland.org/2024spotlight\n\n \n\nPLEASE RSVP BY NOVEMBER 26!\nY
 ou will be invited to make your gift to the 2024...
DTSTART;TZID=America/Los_Angeles:20231202T183000
DTEND;TZID=America/Los_Angeles:20231202T203000
END:VEVENT
END:VCALENDAR
