BEGIN:VCALENDAR
PRODID:-//eluceo/ical//2.0/EN
VERSION:2.0
CALSCALE:GREGORIAN
BEGIN:VEVENT
UID:e29e6e9353bb31a0468dba03679a9ce6
DTSTAMP:20260420T191817Z
SUMMARY:23rd Annual Song of Miriam  Awards Brunch
DESCRIPTION:Jewish Federation of Greater Portland\nYoung Adults\nhttps://je
 wishportland.org/young-adults/23rd-annual-song-of-miriam-awards-brunch-140
 202\n\nThe Jewish Women’s Round Table presents the 23rd Annual “Song o
 f Miriam” Awards Brunch Honoring Outstanding Women Volunteers.
DTSTART;TZID=America/Los_Angeles:20150607T100000
DTEND;TZID=America/Los_Angeles:20150607T121500
END:VEVENT
END:VCALENDAR
