BEGIN:VCALENDAR
PRODID:-//eluceo/ical//2.0/EN
VERSION:2.0
CALSCALE:GREGORIAN
BEGIN:VEVENT
UID:b4a3d612b755e7225709ed3648e2374e
DTSTAMP:20260423T182821Z
SUMMARY:92nd Street Y Lecture Series (Aug)
DESCRIPTION:Jewish Federation of Greater Portland\nYoung Adults\nhttps://je
 wishportland.org/young-adults/92nd-street-y-lecture-series-aug-196394\n\nT
 he MJCC is proud to present several 92Y Live programs\, shown on DVD after
  the live event in New York. This series is focused on the upcoming US Ele
 ction and some lectures may feature a local expert on the subject.\n\nSave
  the dates and look for more details online.\n\nWednesday\, August 17\; 7:
 00 PM: Paul Krugman in Conversation with Gillian Tett: The State of the Ec
 onomy\n\nWednesday\, September 14\; 7:00 PM: World Politics with Ralph Buu
 ltjens: Election 2016 and America at the Polls      \n\nCo...
DTSTART;TZID=America/Los_Angeles:20160817T190000
DTEND;TZID=America/Los_Angeles:20160817T210000
END:VEVENT
END:VCALENDAR
