BEGIN:VCALENDAR
PRODID:-//eluceo/ical//2.0/EN
VERSION:2.0
CALSCALE:GREGORIAN
BEGIN:VEVENT
UID:2def04591fbe187b56880d78b98afcbf
DTSTAMP:20260422T031642Z
SUMMARY:A Conversation with Gubernatorial Candidate  Christine Drazan
DESCRIPTION:Jewish Federation of Greater Portland\nYoung Adults\nhttps://je
 wishportland.org/young-adults/a-conversation-with-gubernatorial-candidate-
 -christine-drazan-1650574882-405805\n\nLearn where Christine\, a Republica
 n frontrunner in the race for governor\, stands on the issues of importanc
 e to both the Jewish and general communities.\n\nTo Register: https://us02
 web.zoom.us/webinar/register/WN_2Ka2WAbvTT2BsQRUetHrsQ
DTSTART;TZID=America/Los_Angeles:20220512T120000
DTEND;TZID=America/Los_Angeles:20220512T130000
END:VEVENT
END:VCALENDAR
