BEGIN:VCALENDAR
PRODID:-//eluceo/ical//2.0/EN
VERSION:2.0
CALSCALE:GREGORIAN
BEGIN:VEVENT
UID:8ac4cd750fcec633b8f9e74d99191c9d
DTSTAMP:20260423T011757Z
SUMMARY:An Evening with Marthe Cohn: A French Jewish Spy in Nazi Germany
DESCRIPTION:Jewish Federation of Greater Portland\nYoung Adults\nhttps://je
 wishportland.org/young-adults/an-evening-with-marthe-cohn-a-french-jewish-
 spy-in-nazi-germany-1576016470-336567\n\nABOUT MARTHE COHN\nMarthe Cohn wa
 s born Marthe Hoffnung on 13 April 1920 into an Orthodox Jewish family and
  raised in Metz\, France near the German border. By the time she was in he
 r late teens\, Hitler rose to power\, and Cohn’s sister was sent to Ausc
 hwitz. In November 1944\, after the liberation of Paris\, Marthe became a 
 member of the Intelligence Service of the French 1st Army\, assuming the i
 dentity of a German nurse named Martha Ulrich\, claiming she was searching
  for her missing fiancé....
DTSTART;TZID=America/Los_Angeles:20200211T180000
DTEND;TZID=America/Los_Angeles:20200211T200000
END:VEVENT
END:VCALENDAR
