BEGIN:VCALENDAR
PRODID:-//eluceo/ical//2.0/EN
VERSION:2.0
CALSCALE:GREGORIAN
BEGIN:VEVENT
UID:e214a19c476a81ea1d6909797681ad7c
DTSTAMP:20260422T170512Z
SUMMARY:Apples and Honey with Congregation Shir Tikvah
DESCRIPTION:Jewish Federation of Greater Portland\nYoung Adults\nhttps://je
 wishportland.org/young-adults/apples-and-honey-with-congregation-shir-tikv
 ah-205211\n\nJoin Rabbi Ariel Stone and the Congregation Shir Tikvah famil
 y for apples and honey\, following Rosh Hashanah morning services and befo
 re Family Services. 
DTSTART;TZID=America/Los_Angeles:20161003T123000
DTEND;TZID=America/Los_Angeles:20161003T130000
END:VEVENT
END:VCALENDAR
