BEGIN:VCALENDAR
PRODID:-//eluceo/ical//2.0/EN
VERSION:2.0
CALSCALE:GREGORIAN
BEGIN:VEVENT
UID:901611fb9636d46d625748c90abbe4fe
DTSTAMP:20260421T040423Z
SUMMARY:BECOME ENGAGED: The Challenges of Inter-Generational Israel Convers
 ations
DESCRIPTION:Jewish Federation of Greater Portland\nYoung Adults\nhttps://je
 wishportland.org/young-adults/become-engaged-the-challenges-of-inter-gener
 ational-conversations-about-israel-482127\n\n \n\n\n\n\n\n\n\n\n\nTuesday
 \, January 7 | 5:00 PM | Zoom Webinar\n\nParents and children\, gran
 dparents and grandchildren\, famously disagree about Israel. Our generatio
 ns talk past one another with deep conviction\, emotion\, and passion. I
 n the history of these conversations\, has there ever been a single i...
DTSTART;TZID=America/Los_Angeles:20250107T170000
DTEND;TZID=America/Los_Angeles:20250107T183000
END:VEVENT
END:VCALENDAR
