BEGIN:VCALENDAR
PRODID:-//eluceo/ical//2.0/EN
VERSION:2.0
CALSCALE:GREGORIAN
BEGIN:VEVENT
UID:bd2eb7fc948a322deb9c1715e72a04b2
DTSTAMP:20260420T161827Z
SUMMARY:Beth Hamon's Summer of Hope: A concert series
DESCRIPTION:Jewish Federation of Greater Portland\nYoung Adults\nhttps://je
 wishportland.org/young-adults/beth-hamons-summer-of-hope-a-concert-series-
 1469206100-200130\n\nA series of shows to raise funds and awareness for or
 ganizations working to reduce hunger in our community.
DTSTART;TZID=America/Los_Angeles:20160828T160000
DTEND;TZID=America/Los_Angeles:20160828T180000
END:VEVENT
END:VCALENDAR
