BEGIN:VCALENDAR
PRODID:-//eluceo/ical//2.0/EN
VERSION:2.0
CALSCALE:GREGORIAN
BEGIN:VEVENT
UID:aef947ac531231cb0c88f882769d24c4
DTSTAMP:20260424T074512Z
SUMMARY:Central Coast Community Seder at BB Camp
DESCRIPTION:Jewish Federation of Greater Portland\nYoung Adults\nhttps://je
 wishportland.org/young-adults/central-coast-community-seder-at-bb-camp-511
 299\n\nCentral Coast Community Seder\n\nApril 7\, 5PM\, BB Camp\n\nJoin 
 BB Camp staff for a warm and festive Passover Seder\, with a meaningful 
 service led by Kim Schneiderman! Experience an interactive evening filled
  with beloved traditions\, engaging activities\, and joyful music. Celebra
 te the holiday spirit with us as we reflect\, sing\, and search for the af
 ikomen together. We can't wait to share this special night with you!\n\nFu
 ll Passover meal included with registration fee.\n\n$36/adult\, $18/...
DTSTART;TZID=America/Los_Angeles:20260407T170000
DTEND;TZID=America/Los_Angeles:20260407T200000
END:VEVENT
END:VCALENDAR
