BEGIN:VCALENDAR
PRODID:-//eluceo/ical//2.0/EN
VERSION:2.0
CALSCALE:GREGORIAN
BEGIN:VEVENT
UID:a8b6cd191bd752f9c69e0b98b2f510e9
DTSTAMP:20260423T040050Z
SUMMARY:Chabad Tisha B'Av Service
DESCRIPTION:Jewish Federation of Greater Portland\nYoung Adults\nhttps://je
 wishportland.org/young-adults/chabad-tisha-bav-service-1753131415-496431\n
 \nThe afternoon service of Tisha B'Av includes Tallit and Tefillin\, Torah
  reading\, Haftorah\, and the traditional Nachem prayer—expressing hope 
 and comfort in the promise of redemption.
DTSTART;TZID=America/Los_Angeles:20250803T194500
DTEND;TZID=America/Los_Angeles:20250803T214500
END:VEVENT
END:VCALENDAR
