BEGIN:VCALENDAR
PRODID:-//eluceo/ical//2.0/EN
VERSION:2.0
CALSCALE:GREGORIAN
BEGIN:VEVENT
UID:65454df9944a343bcc25868240565122
DTSTAMP:20260425T222749Z
SUMMARY:Community 2nd night Seder
DESCRIPTION:Jewish Federation of Greater Portland\nYoung Adults\nhttps://je
 wishportland.org/young-adults/community-2nd-night-seder-487329\n\nJoin us 
 for our Community 2nd night Seder on Sunday\, April 13th.\n\nWe are extrem
 ely grateful to Erik Richmond and Annette Demsey for generously underwriti
 ng a portion of the cost so that everyone who wishes to attend the seder a
 re able to do so. Erik and Annette have made this gift in loving memory of
  his mother\, Donna Winkler (z”l)\, who loved Passover more than any oth
 er holiday and who left this world just before Passover 2022.\n\nBecause o
 f their gift\, we are able to offer a range of pr...
DTSTART;TZID=America/Los_Angeles:20250413T183000
DTEND;TZID=America/Los_Angeles:20250413T210000
END:VEVENT
END:VCALENDAR
