BEGIN:VCALENDAR
PRODID:-//eluceo/ical//2.0/EN
VERSION:2.0
CALSCALE:GREGORIAN
BEGIN:VEVENT
UID:5c853a9c419cdf3b39940e8665fa0764
DTSTAMP:20260421T005923Z
SUMMARY:Community Sephardic Monthly Shabbat Dinner
DESCRIPTION:Jewish Federation of Greater Portland\nYoung Adults\nhttps://je
 wishportland.org/young-adults/community-sephardic-monthly-shabbat-dinner-1
 669601529-422510\n\nPlease join for a Community Monthly Shabbat Dinner - S
 ephardic Judaism is a treasury with something for everyone!Join for a love
 ly Sephardic Kabbalat Service\, Shabbat Dinner and class by Rabbi Villarre
 al titles Kaminos: A Journey into Sephardic Spirituality and Thought. Disc
 over why Sephardic Judaism is a treasury with something for EVERYONE.RSVP 
 Required. Contact Melissa Abu for finacial assistance if need.
DTSTART;TZID=America/Los_Angeles:20221202T173000
DTEND;TZID=America/Los_Angeles:20221202T203000
END:VEVENT
END:VCALENDAR
