BEGIN:VCALENDAR
PRODID:-//eluceo/ical//2.0/EN
VERSION:2.0
CALSCALE:GREGORIAN
BEGIN:VEVENT
UID:b96b113c73734ad940fe66495bd836bd
DTSTAMP:20260421T120954Z
SUMMARY:Congregation Kol Ami 2nd Night Community Seder
DESCRIPTION:Jewish Federation of Greater Portland\nYoung Adults\nhttps://je
 wishportland.org/young-adults/congregation-kol-ami-2nd-night-community-sed
 er-1489694435-225334\n\nCongregation Kol Ami 2nd Night Community Seder
DTSTART;TZID=America/Los_Angeles:20170411T180000
DTEND;TZID=America/Los_Angeles:20170411T200000
END:VEVENT
END:VCALENDAR
