BEGIN:VCALENDAR
PRODID:-//eluceo/ical//2.0/EN
VERSION:2.0
CALSCALE:GREGORIAN
BEGIN:VEVENT
UID:560f2eb6c9021597fa37a5b0ce0bddcf
DTSTAMP:20260421T032749Z
SUMMARY:The Rise of Anti-Semitism on College Campuses  with Bob Horenstein
DESCRIPTION:Jewish Federation of Greater Portland\nYoung Adults\nhttps://je
 wishportland.org/young-adults/current-events-with-bob-horenstein-148836\n\
 nThe Rise of Anti-Semitism on College Campuses... What is happening and wh
 at can be done? Grab some lunch at Cafe at the J and join us for some enli
 ghtenment on this pressing subject. 
DTSTART;TZID=America/Los_Angeles:20150618T120000
DTEND;TZID=America/Los_Angeles:20150618T130000
END:VEVENT
END:VCALENDAR
