BEGIN:VCALENDAR
PRODID:-//eluceo/ical//2.0/EN
VERSION:2.0
CALSCALE:GREGORIAN
BEGIN:VEVENT
UID:686cc7f69fef2250313e8b764deccb63
DTSTAMP:20260421T105437Z
SUMMARY:Davita's Harp
DESCRIPTION:Jewish Federation of Greater Portland\nYoung Adults\nhttps://je
 wishportland.org/young-adults/davitas-harp-183006\n\nIn the stormy melting
  pot that was 1930s’ New York City\, a young girl comes of age and finds
  her voice. You’ll meet her for the first time when the curtain rises at
  the world premiere of Davita’s Harp.\n\n
DTSTART;TZID=America/Los_Angeles:20160319T193000
DTEND;TZID=America/Los_Angeles:20160319T220000
END:VEVENT
END:VCALENDAR
