BEGIN:VCALENDAR
PRODID:-//eluceo/ical//2.0/EN
VERSION:2.0
CALSCALE:GREGORIAN
BEGIN:VEVENT
UID:f40fc9fa0b1d917bb4a16074768a2e11
DTSTAMP:20260421T025646Z
SUMMARY:EJC Rosalyn Kliot: Art Opening and Exhibit
DESCRIPTION:Jewish Federation of Greater Portland\nYoung Adults\nhttps://je
 wishportland.org/young-adults/ejc-rosalyn-kliot-art-opening-and-exhibit-17
 52700787-496131\n\nEJC ART OPENING\n\nRosalyn Kliot
DTSTART;TZID=America/Los_Angeles:20250807T183000
DTEND;TZID=America/Los_Angeles:20250807T200000
END:VEVENT
END:VCALENDAR
