BEGIN:VCALENDAR
PRODID:-//eluceo/ical//2.0/EN
VERSION:2.0
CALSCALE:GREGORIAN
BEGIN:VEVENT
UID:c666aee2a30291dac2437db13d187e6e
DTSTAMP:20260426T000007Z
SUMMARY:Erev Rosh Hashahah Tot Service
DESCRIPTION:Jewish Federation of Greater Portland\nYoung Adults\nhttps://je
 wishportland.org/young-adults/erev-rosh-hashahah-tot-service-1755210292-49
 8292\n\nStart our new year with stories and songs (and apples and honey\, 
 of course!). Mini mensches (preschool aged and younger) make music and mem
 ories in the Main Sanctuary alongside their families\, the CBI Clergy\, an
 d Artist-in-Residence Kim Schneiderman.\n\nLed by CBI clergy and Artist-in
 -Residence Kim Schneiderman.\n\nCBI is delighted to welcome guests to our 
 High Holidays observances\; please register at https://bethisraelpdx.shulc
 loud.com/form/guest-registration-5786.html
DTSTART;TZID=America/Los_Angeles:20250922T160000
DTEND;TZID=America/Los_Angeles:20250922T170000
END:VEVENT
END:VCALENDAR
