BEGIN:VCALENDAR
PRODID:-//eluceo/ical//2.0/EN
VERSION:2.0
CALSCALE:GREGORIAN
BEGIN:VEVENT
UID:ece683fd61620e2fa43b2274b531ac4e
DTSTAMP:20260419T182105Z
SUMMARY:Erev Simchat Torah Dinner & Celebration
DESCRIPTION:Jewish Federation of Greater Portland\nYoung Adults\nhttps://je
 wishportland.org/young-adults/erev-simchat-torah-dinner-celebration-5783-4
 15577\n\nSimchat Torah Morning Service and Celebration\nOctober 17-18\nSim
 chat Torah celebrates and marks the conclusion of the annual cycle of Tora
 h readings\, and the beginning of a new cycle. Join us for dinner and cele
 brations on Erev Simchat Torah and for morning services.\n\nMonday\, Octob
 er 17\n5:15pm Young Family Simchat Torah Fun\n6:00pm Erev Simchat Torah Di
 nner & Celebration\n\nTuesday\, October 18\n9:30am Simchat Torah Morning S
 ervice (kiddush lunch to follow)
DTSTART;TZID=America/Los_Angeles:20221017T180000
DTEND;TZID=America/Los_Angeles:20221017T200000
END:VEVENT
END:VCALENDAR
