BEGIN:VCALENDAR
PRODID:-//eluceo/ical//2.0/EN
VERSION:2.0
CALSCALE:GREGORIAN
BEGIN:VEVENT
UID:6cc8ca231128e45a4dc2f8b71627cb25
DTSTAMP:20260424T204856Z
SUMMARY:Erev Simchat Torah with Dancing & Drinks at CST
DESCRIPTION:Jewish Federation of Greater Portland\nYoung Adults\nhttps://je
 wishportland.org/young-adults/erev-simchat-torah-with-dancing-drinks-at-cs
 t-419497\n\nJoin us for a fun\, lively and interactive Erev Simchat Torah 
 with a dancing Torah\, drinks\, and more! \n\nIf you are not a member\, w
 e welcome you and invite you to join us in creating a spiritual home that 
 enriches our whole community. We encourage you to make a meaningful contri
 bution to Shaarie Torah to help us fulfill our mission of being a spiritua
 l home that encourages growth in all stages of life by fostering connectio
 ns\, lifelong learning and meaningful relationships.\n\nMake a contrib...
DTSTART;TZID=America/Los_Angeles:20221017T073000
DTEND;TZID=America/Los_Angeles:20221017T093000
END:VEVENT
END:VCALENDAR
