BEGIN:VCALENDAR
PRODID:-//eluceo/ical//2.0/EN
VERSION:2.0
CALSCALE:GREGORIAN
BEGIN:VEVENT
UID:a7ce0fe1394fc631acd1ad2fa14bfddb
DTSTAMP:20260423T191724Z
SUMMARY:Gabe Hunter-Bernstein and Cantor Ann Brown will lead our Shabbat Se
 rvice.
DESCRIPTION:Jewish Federation of Greater Portland\nYoung Adults\nhttps://je
 wishportland.org/young-adults/gabe-hunter-bernstein-and-cantor-ann-brown-w
 ill-lead-our-shabbat-service-1434499052-149770\n\nBirthday blessings for t
 he month July will be offered. All are welcome to attend. An Oneg will fol
 low.
DTSTART;TZID=America/Los_Angeles:20150710T190000
DTEND;TZID=America/Los_Angeles:20150710T203000
END:VEVENT
END:VCALENDAR
