BEGIN:VCALENDAR
PRODID:-//eluceo/ical//2.0/EN
VERSION:2.0
CALSCALE:GREGORIAN
BEGIN:VEVENT
UID:54cda2212850a137839031b70283b9b8
DTSTAMP:20260422T232308Z
SUMMARY:Gabe Hunter-Bernstein will lead our Shabbat Service. 
DESCRIPTION:Jewish Federation of Greater Portland\nYoung Adults\nhttps://je
 wishportland.org/young-adults/gabe-hunter-bernstein-will-lead-our-shabbat-
 service-1434499222-149771\n\nGabe Hunter-Bernstein will lead our Shabbat S
 ervice.  All are welcome to attend. An Oneg will follow.
DTSTART;TZID=America/Los_Angeles:20150717T190000
DTEND;TZID=America/Los_Angeles:20150717T203000
END:VEVENT
END:VCALENDAR
