BEGIN:VCALENDAR
PRODID:-//eluceo/ical//2.0/EN
VERSION:2.0
CALSCALE:GREGORIAN
BEGIN:VEVENT
UID:dbb7471c1bac81f6fe1597cb74638198
DTSTAMP:20260422T171456Z
SUMMARY:Jewish Community Orchestra
DESCRIPTION:Jewish Federation of Greater Portland\nYoung Adults\nhttps://je
 wishportland.org/young-adults/jewish-community-orchestra-april-2019-305463
 \n\nFeaturing Daniel Partridge\, Horn Soloist \n\nThis program helps to f
 urther the growth of local artists by presenting concerts that educate and
  entertain our audience.\n\nBerlioz - Overture to Le Corsair\nBar Niv - Is
 raeli Suite for Strings\nR. Strauss - Horn Concerto No. 1\nDaniel Partridg
 e\, soloist\nLalo - Symphony in G\n\nTickets are available at the door\n$1
 0 adults\, $8 seniors\, $5 students. Children under 6 free.
DTSTART;TZID=America/Los_Angeles:20190407T150000
DTEND;TZID=America/Los_Angeles:20190407T163000
END:VEVENT
END:VCALENDAR
