BEGIN:VCALENDAR
PRODID:-//eluceo/ical//2.0/EN
VERSION:2.0
CALSCALE:GREGORIAN
BEGIN:VEVENT
UID:2b5d1662a85dc012729a1d64a6be884f
DTSTAMP:20260422T184844Z
SUMMARY:Kol Nidre Service
DESCRIPTION:Jewish Federation of Greater Portland\nYoung Adults\nhttps://je
 wishportland.org/young-adults/kol-nidre-service-414563\n\nA traditional Ko
 l Nidre service in CBI's Main Sanctuary.
DTSTART;TZID=America/Los_Angeles:20221004T193000
DTEND;TZID=America/Los_Angeles:20221004T213000
END:VEVENT
END:VCALENDAR
