BEGIN:VCALENDAR
PRODID:-//eluceo/ical//2.0/EN
VERSION:2.0
CALSCALE:GREGORIAN
BEGIN:VEVENT
UID:db569df22e735b61ef6dc782804256df
DTSTAMP:20260425T214105Z
SUMMARY:Learn to Bake Kosher for Passover Macaron with Pastry Chef Eliana B
 onn
DESCRIPTION:Jewish Federation of Greater Portland\nYoung Adults\nhttps://je
 wishportland.org/young-adults/learn-to-bake-kosher-for-passover-macaron-wi
 th-pastry-chef-eliana-bonn-488688\n\nLearn to Bake Kosher for Passover Mac
 arons \n\nGesher's rabbis invite you to\n\nA Baking Workshop in Gesher’s
  Kosher for Passover Kitchen\n\nwith pastry chef Eliana Bonn\n\nLearn besi
 de Eliana\, along with Gesher’s rabbis\, the precise and delicate nature
  of making Macarons - an elegant dessert that is kosher for Passover and w
 ill be served at Gesher’s Seders this year for the first time.  First w
 e will prepare and bake the shells.  While they bake\, we will prepare se
 veral flavors of bu...
DTSTART;TZID=America/Los_Angeles:20250330T100000
DTEND;TZID=America/Los_Angeles:20250330T150000
END:VEVENT
END:VCALENDAR
