BEGIN:VCALENDAR
PRODID:-//eluceo/ical//2.0/EN
VERSION:2.0
CALSCALE:GREGORIAN
BEGIN:VEVENT
UID:abcdf309f5493c4cd113a0dc0f9d1ab6
DTSTAMP:20260422T233845Z
SUMMARY:Lecture by  Mattathias Schwartz\, staff writer for The New Yorker 
DESCRIPTION:Jewish Federation of Greater Portland\nYoung Adults\nhttps://je
 wishportland.org/young-adults/lecture-by-mattathias-schwartz-staff-writer-
 for-the-new-yorker-157319\n\nSTRANGERS IN THE LAND: SECURITY\, HOSPITALITY
  AND IMMIGRATION: Are we living up to our obligations as outlined in the T
 orah and as dictated by our ethical and moral principles?
DTSTART;TZID=America/Los_Angeles:20150903T190000
DTEND;TZID=America/Los_Angeles:20150903T203000
END:VEVENT
END:VCALENDAR
