BEGIN:VCALENDAR
PRODID:-//eluceo/ical//2.0/EN
VERSION:2.0
CALSCALE:GREGORIAN
BEGIN:VEVENT
UID:5225adc92dcf58a98f8bfef1177c1344
DTSTAMP:20260420T093450Z
SUMMARY:Lecture: Christopher Browning
DESCRIPTION:Jewish Federation of Greater Portland\nYoung Adults\nhttps://je
 wishportland.org/young-adults/lecture-christopher-browning-1471978512-2046
 77\n\n"From humanitarian relief to Holocaust rescue: Tracy Strong Jr. and 
 the fate of Jewish refugees in southern France."
DTSTART;TZID=America/Los_Angeles:20161110T190000
DTEND;TZID=America/Los_Angeles:20161110T210000
END:VEVENT
END:VCALENDAR
