BEGIN:VCALENDAR
PRODID:-//eluceo/ical//2.0/EN
VERSION:2.0
CALSCALE:GREGORIAN
BEGIN:VEVENT
UID:c2a8974f0c0a7eb291ab52df94f4441f
DTSTAMP:20260420T193227Z
SUMMARY:Race & Justice Weekly Meeting
DESCRIPTION:Jewish Federation of Greater Portland\nYoung Adults\nhttps://je
 wishportland.org/young-adults/mikdash-29-155071\n\nAn ongoing conversation
  about race\, class\, and gentrification\, and our role as Jews in challen
 ging oppressive systems\, here in Portland and nationally.
DTSTART;TZID=America/Los_Angeles:20150816T190000
DTEND;TZID=America/Los_Angeles:20150816T210000
END:VEVENT
END:VCALENDAR
