BEGIN:VCALENDAR
PRODID:-//eluceo/ical//2.0/EN
VERSION:2.0
CALSCALE:GREGORIAN
BEGIN:VEVENT
UID:153453832f1ce543541b1f913bc3bfc5
DTSTAMP:20260421T125455Z
SUMMARY:Backyard Beit Midrash
DESCRIPTION:Jewish Federation of Greater Portland\nYoung Adults\nhttps://je
 wishportland.org/young-adults/mikdash-33-155075\n\nBeit midrash-style lear
 ning of selected hasidic midrashim/commentaries on the weekly Torah portio
 n.
DTSTART;TZID=America/Los_Angeles:20150820T193000
DTEND;TZID=America/Los_Angeles:20150820T213000
END:VEVENT
END:VCALENDAR
