BEGIN:VCALENDAR
PRODID:-//eluceo/ical//2.0/EN
VERSION:2.0
CALSCALE:GREGORIAN
BEGIN:VEVENT
UID:4e46bbf1aae44b1d3e3a4b5e6e462b32
DTSTAMP:20260424T181913Z
SUMMARY:Moishe House - Challah Baking
DESCRIPTION:Jewish Federation of Greater Portland\nYoung Adults\nhttps://je
 wishportland.org/young-adults/moishe-house-challah-baking-308864\n\nWe lov
 e challah yes we do! We love challah how 'bout you? Join resident challah 
 baker Leah as we celebrate Shabbat by learning how to make this ceremonial
  staple.\n\n____________\nThe Moishe House model supports young adult lead
 ers in their 20s and early 30s\, allowing them to create vibrant Jewish co
 mmunities for themselves and their peers. In January 2018\, Moishe House P
 DX celebrated a decade of supporting the young adult community (ages 22-32
 ) in the Pacific Northwest. Check out moishehouse...
DTSTART;TZID=America/Los_Angeles:20190531T190000
DTEND;TZID=America/Los_Angeles:20190531T203000
END:VEVENT
END:VCALENDAR
