BEGIN:VCALENDAR
PRODID:-//eluceo/ical//2.0/EN
VERSION:2.0
CALSCALE:GREGORIAN
BEGIN:VEVENT
UID:6038977fc2140183cb84dfbea246bcc0
DTSTAMP:20260423T034136Z
SUMMARY:Moishe House - Orion String Quartet House Show
DESCRIPTION:Jewish Federation of Greater Portland\nYoung Adults\nhttps://je
 wishportland.org/young-adults/moishe-house-orion-string-quartet-house-show
 -323742\n\nThe Orion String Quartet is dedicated to bringing classical mus
 ic to accessible\, casual spaces. They gather with one another and their a
 udiences to share in the pure joy of making music. Two musicians (Sophia a
 nd Hadas) are members of the Moishe House community and are thrilled to be
  bridging these wonderful groups!\n\nAustin DeSimone: violin\nHadas Moalem
 : violin\nRuth Easterling: viola\nSophia Rice: cello\n\n \n\n____________
 ________\nThe Moishe House model supports young adult leaders in ...
DTSTART;TZID=America/Los_Angeles:20190924T190000
DTEND;TZID=America/Los_Angeles:20190924T210000
END:VEVENT
END:VCALENDAR
