BEGIN:VCALENDAR
PRODID:-//eluceo/ical//2.0/EN
VERSION:2.0
CALSCALE:GREGORIAN
BEGIN:VEVENT
UID:0bb8b6c7d95a5e3ad3270d9b1e6c428d
DTSTAMP:20260421T022731Z
SUMMARY:Moishe Pod- West PDX Challah-back Brunch
DESCRIPTION:Jewish Federation of Greater Portland\nYoung Adults\nhttps://je
 wishportland.org/young-adults/moishe-pod--west-pdx-challah-back-brunch-166
 5171014-419482\n\nIt’s been a few days since our challah bake\, and your
  loaf (if there’s any left) might be getting a little stale. You know wh
 at that’s perfect for… French toast! Join us for brunch where thick sl
 ices of our homemade challah will get repurposed for this morning treat! R
 SVP at moishepodwestpdx.com
DTSTART;TZID=America/Los_Angeles:20221016T110000
DTEND;TZID=America/Los_Angeles:20221016T130000
END:VEVENT
END:VCALENDAR
