BEGIN:VCALENDAR
PRODID:-//eluceo/ical//2.0/EN
VERSION:2.0
CALSCALE:GREGORIAN
BEGIN:VEVENT
UID:27003214a09879efd86b3e3ccb7a2798
DTSTAMP:20260419T233832Z
SUMMARY:Moishe Pod- West PDX Movie Night!
DESCRIPTION:Jewish Federation of Greater Portland\nYoung Adults\nhttps://je
 wishportland.org/young-adults/moishe-pod--west-pdx-movie-night-1665171341-
 419487\n\nChanukah is right around the corner\, so come get in the holiday
  spirit with a cozy night of watching the Adam Sandler animated classic\, 
 “8 Crazy Nights.” RSVP at moishepodwestpdx.com.
DTSTART;TZID=America/Los_Angeles:20221215T190000
DTEND;TZID=America/Los_Angeles:20221215T213000
END:VEVENT
END:VCALENDAR
