BEGIN:VCALENDAR
PRODID:-//eluceo/ical//2.0/EN
VERSION:2.0
CALSCALE:GREGORIAN
BEGIN:VEVENT
UID:090f4353183cb5791ce5a2497656ddd0
DTSTAMP:20260424T205152Z
SUMMARY:Moishe Pod Shabbat Dinner
DESCRIPTION:Jewish Federation of Greater Portland\nYoung Adults\nhttps://je
 wishportland.org/young-adults/moishe-pod-shabbat-dinner-1717014941-467097\
 n\nShabbat Shalom! Join Moishe Pod Portland West Friday as we celebrate th
 e Sabbath. Whether you're a familiar face or a new friend\, we extend an o
 pen invitation to revel in the magic of Shabbat with us. We hope to see yo
 u at our monthly Moishe Pod Shabbat dinner.
DTSTART;TZID=America/Los_Angeles:20240621T190000
DTEND;TZID=America/Los_Angeles:20240621T210000
END:VEVENT
END:VCALENDAR
